BEGIN:VCALENDAR
VERSION:2.0
PRODID:-//Gledališče Toneta Čufarja - ECPv6.7.0//NONSGML v1.0//EN
CALSCALE:GREGORIAN
METHOD:PUBLISH
X-WR-CALNAME:Gledališče Toneta Čufarja
X-ORIGINAL-URL:https://www.gledalisce-tc.si
X-WR-CALDESC:Events for Gledališče Toneta Čufarja
REFRESH-INTERVAL;VALUE=DURATION:PT1H
X-Robots-Tag:noindex
X-PUBLISHED-TTL:PT1H
BEGIN:VTIMEZONE
TZID:UTC
BEGIN:STANDARD
TZOFFSETFROM:+0000
TZOFFSETTO:+0000
TZNAME:UTC
DTSTART:20250101T000000
END:STANDARD
END:VTIMEZONE
BEGIN:VEVENT
DTSTART;TZID=UTC:20250305T180000
DTEND;TZID=UTC:20250305T210000
DTSTAMP:20260420T191013
CREATED:20250221T085244Z
LAST-MODIFIED:20250221T085244Z
UID:1452-1741197600-1741208400@www.gledalisce-tc.si
SUMMARY:12. DRAMSKI FESTIVAL GIMNAZIJE JESENICE
DESCRIPTION:Spored predstav: \nKLASIKI (3.A) – A.T. LINHART: MATIČEK SE ŽENI (priredba) \nFIKUSI (2.C) – LUKA PETKOVIČ\, TOMAŽ BOHINJEC: JANEZ VEZ: MOKA IN KRI \nSNEGULJČKI (3.Š) – OLGA PAVŠIČ – ANA KOSELJ: SNEGULJČICA \n4.A (4.A) – WARNER BROS: MRTVA NEVESTA (priredba) \nTEATER\, PROF. – RAYMOND QUENEAU: VAJE V SLOGU \n 
URL:https://www.gledalisce-tc.si/event/12-dramski-festival-gimnazije-jesenice/
LOCATION:GTČ dvorana\, Trg Toneta Čufarja 4\, Jesenice\, 4270\, Slovenia
CATEGORIES:Vsi dogodki
ATTACH;FMTTYPE=image/jpeg:https://www.gledalisce-tc.si/wp-content/uploads/2025/02/dramski-festival.jpg
ORGANIZER;CN="Gimnazija Jesenice":MAILTO:info@gimjes.si
END:VEVENT
END:VCALENDAR