BEGIN:VCALENDAR
VERSION:2.0
PRODID:-//Gledališče Toneta Čufarja - ECPv6.7.0//NONSGML v1.0//EN
CALSCALE:GREGORIAN
METHOD:PUBLISH
X-WR-CALNAME:Gledališče Toneta Čufarja
X-ORIGINAL-URL:https://www.gledalisce-tc.si
X-WR-CALDESC:Events for Gledališče Toneta Čufarja
REFRESH-INTERVAL;VALUE=DURATION:PT1H
X-Robots-Tag:noindex
X-PUBLISHED-TTL:PT1H
BEGIN:VTIMEZONE
TZID:UTC
BEGIN:STANDARD
TZOFFSETFROM:+0000
TZOFFSETTO:+0000
TZNAME:UTC
DTSTART:20260101T000000
END:STANDARD
END:VTIMEZONE
BEGIN:VEVENT
DTSTART;TZID=UTC:20260224T180000
DTEND;TZID=UTC:20260224T203000
DTSTAMP:20260422T160944
CREATED:20260209T113836Z
LAST-MODIFIED:20260209T113836Z
UID:2279-1771956000-1771965000@www.gledalisce-tc.si
SUMMARY:13. DRAMSKI FESTIVAL
DESCRIPTION:Program: \n3. B KINGULE – C. Johnson\, B. Andersson\, B. Ulvaeus: MAMMA MIA \n4. A KLASIKI – Walt Disney: PETER PAN \nTEATER\, PROF. – Irena Androjna: ZLATOKRIL \nVabljeni k ogledu in navijanju! \nZaželeni prostovoljni prispevki. \n 
URL:https://www.gledalisce-tc.si/event/13-dramski-festival/
LOCATION:GTČ dvorana\, Trg Toneta Čufarja 4\, Jesenice\, 4270\, Slovenia
CATEGORIES:Vsi dogodki
ATTACH;FMTTYPE=image/jpeg:https://www.gledalisce-tc.si/wp-content/uploads/2026/02/dramski_festival.jpg
ORGANIZER;CN="Gimnazija Jesenice":MAILTO:info@gimjes.si
END:VEVENT
END:VCALENDAR