BEGIN:VCALENDAR
VERSION:2.0
PRODID:-//Gledališče Toneta Čufarja - ECPv6.7.0//NONSGML v1.0//EN
CALSCALE:GREGORIAN
METHOD:PUBLISH
X-WR-CALNAME:Gledališče Toneta Čufarja
X-ORIGINAL-URL:https://www.gledalisce-tc.si
X-WR-CALDESC:Events for Gledališče Toneta Čufarja
REFRESH-INTERVAL;VALUE=DURATION:PT1H
X-Robots-Tag:noindex
X-PUBLISHED-TTL:PT1H
BEGIN:VTIMEZONE
TZID:UTC
BEGIN:STANDARD
TZOFFSETFROM:+0000
TZOFFSETTO:+0000
TZNAME:UTC
DTSTART:20250101T000000
END:STANDARD
END:VTIMEZONE
BEGIN:VEVENT
DTSTART;TZID=UTC:20250423T193000
DTEND;TZID=UTC:20250423T210000
DTSTAMP:20260421T080809
CREATED:20240926T114157Z
LAST-MODIFIED:20250422T075834Z
UID:403-1745436600-1745442000@www.gledalisce-tc.si
SUMMARY:24. ČUFARJEV MARATON 2025
DESCRIPTION:Srečanje sosednjih odrov. \nSreda\, 12. marec 2025\, ob 19.30 \nTeater prof.: VAJE V SLOGU (komedija) \n  \nTorek\, 18. marec 2025\, ob 19.30 \nSkupina VI2 pri GTČ Jesenice: EHO NIHILUS (avtorska predstava) \n  \nTorek\, 1. april 2025\, ob 19.30 \nDruštvo Wlka\, Šempas: MILOST V IMENU LJUDSTVA (avtorska predstava) \n  \nSreda\, 16. april 2025\, ob 19.30 \nDramŠpil Ribnica: KOLIČINA TREPLJANJA (komedija absurda) \n  \nSreda\, 23. april 2025\, ob 19.30 \nKUD Jaka Rabič Dovje – Mojstrana: PREPADI (družinska resna komedija)
URL:https://www.gledalisce-tc.si/event/24-cufarjev-maraton-2024/
LOCATION:GTČ dvorana\, Trg Toneta Čufarja 4\, Jesenice\, 4270\, Slovenia
CATEGORIES:gledališki abonma,Vsi dogodki
ATTACH;FMTTYPE=image/png:https://www.gledalisce-tc.si/wp-content/uploads/2024/09/24.cufarjev-maraton.png
END:VEVENT
END:VCALENDAR