BEGIN:VCALENDAR
VERSION:2.0
PRODID:-//Gledališče Toneta Čufarja - ECPv6.7.0//NONSGML v1.0//EN
CALSCALE:GREGORIAN
METHOD:PUBLISH
X-WR-CALNAME:Gledališče Toneta Čufarja
X-ORIGINAL-URL:https://www.gledalisce-tc.si
X-WR-CALDESC:Events for Gledališče Toneta Čufarja
REFRESH-INTERVAL;VALUE=DURATION:PT1H
X-Robots-Tag:noindex
X-PUBLISHED-TTL:PT1H
BEGIN:VTIMEZONE
TZID:UTC
BEGIN:STANDARD
TZOFFSETFROM:+0000
TZOFFSETTO:+0000
TZNAME:UTC
DTSTART:20250101T000000
END:STANDARD
END:VTIMEZONE
BEGIN:VEVENT
DTSTART;TZID=UTC:20250316T100000
DTEND;TZID=UTC:20250316T110000
DTSTAMP:20260421T080247
CREATED:20250219T115407Z
LAST-MODIFIED:20250219T115407Z
UID:1430-1742119200-1742122800@www.gledalisce-tc.si
SUMMARY:BOBROVA SKRIVNOST (matineja)
DESCRIPTION:Kdo v gozdu gradi? Kdo za rastline in živali skrbi? Za trenutek se umirite\, postojte\, prisluhnite in napnite oči. Poglej! Tam v daljavi Bober jez naredi\, vodo zajezi\, bobrišče zgradi in okolje tako prilagodi\, da za vse prebivalce poskrbi. V zahvalo za vse delo od prijateljev darilo dobi\, to so brezskrbne počitnice za teden dni. Na počitnicah Bobra strežejo iz vseh strani\, a tega on navajen ni zato zelo hitro počitnice zapusti\, saj domov se mu mudi. A ko se vrne nič več ni tako kot je bilo\, saj brez Bobra nikomur ni lahko.\n\nOglejte si poučno\, zabavno interaktivno predstavo\, kjer boste spoznali življenje Bobra in njegov velecenjen vpliv na okolje. Vse dogajanje je prepleteno z glasbo\, humorjem v predstavo vključimo otroke\, da postanejo neločljiv del zgodbe.\n\nProdukcija Zavod Enostavno Prijatelji 2023 in Zavod Lutra\nIgrajo: Uroš Lavrič\, Senta Lavrič / Danaja Križaj\n\nVeč o predstavi na: Bobrova skrivnost – Enostavno Prijatelji
URL:https://www.gledalisce-tc.si/event/bobrova-skrivnost-matineja/
LOCATION:GTČ dvorana\, Trg Toneta Čufarja 4\, Jesenice\, 4270\, Slovenia
CATEGORIES:Vsi dogodki
ATTACH;FMTTYPE=image/jpeg:https://www.gledalisce-tc.si/wp-content/uploads/2025/02/bobrova_skrivnost.jpg
END:VEVENT
END:VCALENDAR