BEGIN:VCALENDAR
VERSION:2.0
PRODID:-//Gledališče Toneta Čufarja - ECPv6.7.0//NONSGML v1.0//EN
CALSCALE:GREGORIAN
METHOD:PUBLISH
X-WR-CALNAME:Gledališče Toneta Čufarja
X-ORIGINAL-URL:https://www.gledalisce-tc.si
X-WR-CALDESC:Events for Gledališče Toneta Čufarja
REFRESH-INTERVAL;VALUE=DURATION:PT1H
X-Robots-Tag:noindex
X-PUBLISHED-TTL:PT1H
BEGIN:VTIMEZONE
TZID:UTC
BEGIN:STANDARD
TZOFFSETFROM:+0000
TZOFFSETTO:+0000
TZNAME:UTC
DTSTART:20260101T000000
END:STANDARD
END:VTIMEZONE
BEGIN:VEVENT
DTSTART;TZID=UTC:20260409T190000
DTEND;TZID=UTC:20260409T210000
DTSTAMP:20260422T075735
CREATED:20260223T131009Z
LAST-MODIFIED:20260223T131009Z
UID:2286-1775761200-1775768400@www.gledalisce-tc.si
SUMMARY:DA SAM JA NEKO
DESCRIPTION:Ne zamudite ekskluzivne turneje po Sloveniji. Eden najbolj priljubljenih igralcev iz BiH ponovno v Sloveniji. \nAvtor in igralec: Enis Bešlagić \n“Predstava z naslovom v prevodu Če bi bil nekdo je le enkratna priložnost in ena izbira tistega\, kar sem danes. To\, kar me vodi\, da delim svojo zgodbo z vsemi vami\, ki gledate z srcem. Na svoj način vam pripovedujem tisto\, kar ne vidite za zaveso medijske scene… To je lepo druženje ob obilici različnih in iskrenih čustev\, ki jih bomo skupaj občutili. Vsak od nas ima svoje mesto in posebnost\, ki jo moramo oživeti pri prepoznavanju faktorja X v nas” vam sporoča Enis. \nPriporočam za vse generacije in starosti\, razen za otroke do treh let. \n#nemamdvasrcajednozaljubavdrugozamržnju\n#nikoganemrzimsamonekogaboljevolim \nPredstava traja 2 uri in nima odmora. \nNakup vstopnic je možen samo s plačilnimi karticami.
URL:https://www.gledalisce-tc.si/event/da-sam-ja-neko/
LOCATION:Kino Železar
CATEGORIES:Vsi dogodki
ATTACH;FMTTYPE=image/jpeg:https://www.gledalisce-tc.si/wp-content/uploads/2026/02/da-sam-ja-neko.jpg
ORGANIZER;CN="%C5%A0pas Teater":MAILTO:vstopnice@spasteater.com
END:VEVENT
END:VCALENDAR