BEGIN:VCALENDAR
VERSION:2.0
PRODID:-//Gledališče Toneta Čufarja - ECPv6.7.0//NONSGML v1.0//EN
CALSCALE:GREGORIAN
METHOD:PUBLISH
X-WR-CALNAME:Gledališče Toneta Čufarja
X-ORIGINAL-URL:https://www.gledalisce-tc.si
X-WR-CALDESC:Events for Gledališče Toneta Čufarja
REFRESH-INTERVAL;VALUE=DURATION:PT1H
X-Robots-Tag:noindex
X-PUBLISHED-TTL:PT1H
BEGIN:VTIMEZONE
TZID:UTC
BEGIN:STANDARD
TZOFFSETFROM:+0000
TZOFFSETTO:+0000
TZNAME:UTC
DTSTART:20250101T000000
END:STANDARD
END:VTIMEZONE
BEGIN:VEVENT
DTSTART;TZID=UTC:20250411T190000
DTEND;TZID=UTC:20250411T200000
DTSTAMP:20260419T134645
CREATED:20250402T091606Z
LAST-MODIFIED:20250402T091606Z
UID:1606-1744398000-1744401600@www.gledalisce-tc.si
SUMMARY:ENO PESEM Č`MO ZAPET
DESCRIPTION:Območna revija odraslih pevskih skupin 2025. \nVSTOP PROST.
URL:https://www.gledalisce-tc.si/event/eno-pesem-cmo-zapet/
LOCATION:GTČ dvorana\, Trg Toneta Čufarja 4\, Jesenice\, 4270\, Slovenia
CATEGORIES:Vsi dogodki
ATTACH;FMTTYPE=image/jpeg:https://www.gledalisce-tc.si/wp-content/uploads/2025/04/obmocna-revija.jpg
ORGANIZER;CN="JSKD OI Jesenice":MAILTO:oi.jesenice@jskd.si
END:VEVENT
END:VCALENDAR