BEGIN:VCALENDAR
VERSION:2.0
PRODID:-//Gledališče Toneta Čufarja - ECPv6.7.0//NONSGML v1.0//EN
CALSCALE:GREGORIAN
METHOD:PUBLISH
X-WR-CALNAME:Gledališče Toneta Čufarja
X-ORIGINAL-URL:https://www.gledalisce-tc.si
X-WR-CALDESC:Events for Gledališče Toneta Čufarja
REFRESH-INTERVAL;VALUE=DURATION:PT1H
X-Robots-Tag:noindex
X-PUBLISHED-TTL:PT1H
BEGIN:VTIMEZONE
TZID:UTC
BEGIN:STANDARD
TZOFFSETFROM:+0000
TZOFFSETTO:+0000
TZNAME:UTC
DTSTART:20250101T000000
END:STANDARD
END:VTIMEZONE
BEGIN:VEVENT
DTSTART;TZID=UTC:20250215T190000
DTEND;TZID=UTC:20250215T203000
DTSTAMP:20260420T100127
CREATED:20250120T094014Z
LAST-MODIFIED:20250120T094014Z
UID:1151-1739646000-1739651400@www.gledalisce-tc.si
SUMMARY:KAKO SE ZNEBITI BODOČEGA MOŽA
DESCRIPTION:Izbira tistega ‘za vedno’ nikoli ni enostavna! \nDve leti je\, kar je Silvija zapustila svojega Bojana. V odnosu vendar mora biti mnogo več od rutine\, kavča in Netflixa! Zagotovo obstaja tudi njen Romeo\, uspešen\, poln energije\, priročen in za piko na i še noro zaljubljen vanjo. A najti ‘pravega’ vseeno ni tako enostavno! Slednjič izbere bolj lahkoten pristop k iskanju. Poda se na ljubezensko avanturo najti moža in je pri tem – prekleto uspešna. Še preveč! \nKar trije bi lahko bili bodoči’: ‘raketa od človeka’\, učitelj Sebastijan\, odvetnik Valter in najboljši mizar v mestu Edi – vsi so do konca zagreti\, da se bodo poročili z njo. Le nezvesta nevesta še ni povsem prepričana… Zabavni prizori si sledijo hitreje od vagonov dirjajočega vlaka in Silvija se v ljubezenskih igricah iz minute v minuto bolj zapleta. Eden pleza po balkonu\, drugi pride nenapovedano\, tretji popravlja v spalnici… Neizbežno je\, da bo kmalu prišlo do soočenja. Le kakšno bo? Kako bo Silvija krmarila v koktejlu moških\, kdo bo najbolj v šoku\, zakaj in katero potezo bo na koncu potegnila? Res težka odločitev! Mogoče jo lahko reši le koketna prijateljica Ema? \nVeč o predstavi na: Kako se znebiti bodočega moža – Špas teater
URL:https://www.gledalisce-tc.si/event/kako-se-znebiti-bodocega-moza/
LOCATION:GTČ dvorana\, Trg Toneta Čufarja 4\, Jesenice\, 4270\, Slovenia
CATEGORIES:Vsi dogodki
ATTACH;FMTTYPE=image/jpeg:https://www.gledalisce-tc.si/wp-content/uploads/2025/01/kako-se-znebiti-bodocega-moza.jpg
ORGANIZER;CN="%C5%A0pas Teater":MAILTO:vstopnice@spasteater.com
END:VEVENT
END:VCALENDAR