BEGIN:VCALENDAR
VERSION:2.0
PRODID:-//Gledališče Toneta Čufarja - ECPv6.7.0//NONSGML v1.0//EN
CALSCALE:GREGORIAN
METHOD:PUBLISH
X-WR-CALNAME:Gledališče Toneta Čufarja
X-ORIGINAL-URL:https://www.gledalisce-tc.si
X-WR-CALDESC:Events for Gledališče Toneta Čufarja
REFRESH-INTERVAL;VALUE=DURATION:PT1H
X-Robots-Tag:noindex
X-PUBLISHED-TTL:PT1H
BEGIN:VTIMEZONE
TZID:UTC
BEGIN:STANDARD
TZOFFSETFROM:+0000
TZOFFSETTO:+0000
TZNAME:UTC
DTSTART:20250101T000000
END:STANDARD
END:VTIMEZONE
BEGIN:VEVENT
DTSTART;TZID=UTC:20251201T193000
DTEND;TZID=UTC:20251201T210000
DTSTAMP:20260421T093940
CREATED:20250903T092758Z
LAST-MODIFIED:20251128T105304Z
UID:1752-1764617400-1764622800@www.gledalisce-tc.si
SUMMARY:KAR JE BILO IN KAR BO
DESCRIPTION:Lutz Hübner in Sarah Nemitz \nPrevajalec\, režiser in scenograf: Samo M. Strelec \nPrva slovenska uprizoritev \nV slovenskem in črnogorskem jeziku z nadnapisi. \nProdukcija Mestno gledališče Ptuj \nIgrajo: Ksenija Mišič\, Srdjan Grahovac\, Vid Klemenc. \nMož in žena – bolje žena in mož\, kajti vendarle je ona »zvlekla« njega v gledališče; kakor pač že tolikokrat doslej – sedita v dvorani in čakata\, da se bo predstava pričela. Še pred začetkom se spričkata; nekaj okoli parkiranja in gledališkega lista\, ali ga potrebujeta ali ne. Ona pravi\, da ga bo potem prebrala\, on\, da ga še nikoli ni in da bo tudi tokrat končal v košu za smeti.\nPotem se predstava na odru začne. Gledališki oder dobi nenavadno moč\, da naša gledalca nekako kar posrka vase. Dobesedno. Gledalca začneta spremljati zgodbo\, v kateri nastopata sama! Gledata svojo lastno zgodovino. Minuli dogodki (Kar je bilo) jima pridejo pred oči; kako sta se spoznala\, zaljubila\, dobila otroka … Vendar tu gledališke čarovnije še ni konec. Zdaj lahko izbirata\, ali želita pogledati tudi (v) svojo prihodnost … (In kar bo.)\nSpremljamo njune želje\, misli\, spomine\, pa tudi hrepenenja in strahove.\nNa na videz lahkoten način avtorja postavljata velika in temeljna vprašanja: Kaj je v življenju vredno\, kaj ima smisel\, kaj šteje? Kako bo šlo od tu naprej? Kaj na koncu ostane? \nVeč o predstavi na: KAR JE BILO IN KAR BO.
URL:https://www.gledalisce-tc.si/event/kar-je-bilo-in-kar-bo/
LOCATION:GTČ dvorana\, Trg Toneta Čufarja 4\, Jesenice\, 4270\, Slovenia
CATEGORIES:gledališki abonma,Vsi dogodki
ATTACH;FMTTYPE=image/jpeg:https://www.gledalisce-tc.si/wp-content/uploads/2025/09/kar-je-bilo-in-kar-bo.jpg
END:VEVENT
END:VCALENDAR