BEGIN:VCALENDAR
VERSION:2.0
PRODID:-//Gledališče Toneta Čufarja - ECPv6.7.0//NONSGML v1.0//EN
CALSCALE:GREGORIAN
METHOD:PUBLISH
X-WR-CALNAME:Gledališče Toneta Čufarja
X-ORIGINAL-URL:https://www.gledalisce-tc.si
X-WR-CALDESC:Events for Gledališče Toneta Čufarja
REFRESH-INTERVAL;VALUE=DURATION:PT1H
X-Robots-Tag:noindex
X-PUBLISHED-TTL:PT1H
BEGIN:VTIMEZONE
TZID:UTC
BEGIN:STANDARD
TZOFFSETFROM:+0000
TZOFFSETTO:+0000
TZNAME:UTC
DTSTART:20250101T000000
END:STANDARD
END:VTIMEZONE
BEGIN:VEVENT
DTSTART;TZID=UTC:20250413T100000
DTEND;TZID=UTC:20250413T110000
DTSTAMP:20260421T020117
CREATED:20250327T110545Z
LAST-MODIFIED:20250327T110545Z
UID:1573-1744538400-1744542000@www.gledalisce-tc.si
SUMMARY:MIŠJA ŠOLA (matineja)
DESCRIPTION:Včasih mislimo\, da je učenje dolgočasno in nezanimivo. V Mišji šoli pa miške ugotovijo\, da ni tako. Če se učimo s prijatelji in si pomagamo\, si več zapomnimo\, se kaj novega naučimo\, morda celo zaljubimo … \nPlesna pravljica Mišja šola nam pokaže\, da lahko na pravi način vsak začuti\, da je učenje lahko tudi koristno; da ko nekdo zboli\, potrebuje pomoč; in da je ljubezen zelo lepa\, tako lepa\, da celo nagajivčke začara. \n \nKoreografija in avtorica besedila: Katja Vidmar \nScena: Katja Vidmar\, Luka Jurše \nTehnika in produkcija: Albert Podrekar \nVeč na: Mišja šola – Jesenice | Katja Dance Company
URL:https://www.gledalisce-tc.si/event/misja-sola-matineja/
LOCATION:GTČ dvorana\, Trg Toneta Čufarja 4\, Jesenice\, 4270\, Slovenia
CATEGORIES:Vsi dogodki
ATTACH;FMTTYPE=image/jpeg:https://www.gledalisce-tc.si/wp-content/uploads/2025/03/misja_sola.jpg
END:VEVENT
END:VCALENDAR