BEGIN:VCALENDAR
VERSION:2.0
PRODID:-//Gledališče Toneta Čufarja - ECPv6.7.0//NONSGML v1.0//EN
CALSCALE:GREGORIAN
METHOD:PUBLISH
X-WR-CALNAME:Gledališče Toneta Čufarja
X-ORIGINAL-URL:https://www.gledalisce-tc.si
X-WR-CALDESC:Events for Gledališče Toneta Čufarja
REFRESH-INTERVAL;VALUE=DURATION:PT1H
X-Robots-Tag:noindex
X-PUBLISHED-TTL:PT1H
BEGIN:VTIMEZONE
TZID:UTC
BEGIN:STANDARD
TZOFFSETFROM:+0000
TZOFFSETTO:+0000
TZNAME:UTC
DTSTART:20250101T000000
END:STANDARD
END:VTIMEZONE
BEGIN:VEVENT
DTSTART;TZID=UTC:20250115T193000
DTEND;TZID=UTC:20250115T210000
DTSTAMP:20260425T133054
CREATED:20240919T090436Z
LAST-MODIFIED:20240926T105212Z
UID:281-1736969400-1736974800@www.gledalisce-tc.si
SUMMARY:NOTRANJI PIR
DESCRIPTION:Slovenija je dežela\, kjer cerkveni oltarji zavidajo vaškim šankom. Pijemo za vsako priložnost. Če smo se rodili\, umrli\, kupili avto ali če so nam zmontirali toplotno črpalko. Pri nas pijanci niso tisti\, ki preveč pijejo\, pač pa oni\, ki pod pezo alkohola prehitro omagajo. Slabiči! Kako se pokončno prepiti do bridkega konca? Kako doseči notranji pir\, ne da bi v normalnost vašega požirka kdorkoli podvomil\, vam skozi šestorček mrzlega nesebično razloži nečastni doktor pivske pene – sam Miha Šalehar.SODELUJOČIAvtorski projekt Mihe Šaleharja v režiji Mateja Recerja in v sodelovanju s SiTi Teatrom BTC.
URL:https://www.gledalisce-tc.si/event/notranji-pir/
LOCATION:GTČ dvorana\, Trg Toneta Čufarja 4\, Jesenice\, 4270\, Slovenia
CATEGORIES:gledališki abonma,Vsi dogodki
ATTACH;FMTTYPE=image/jpeg:https://www.gledalisce-tc.si/wp-content/uploads/2024/09/notranji-pir.jpg
END:VEVENT
END:VCALENDAR