BEGIN:VCALENDAR
VERSION:2.0
PRODID:-//Gledališče Toneta Čufarja - ECPv6.7.0//NONSGML v1.0//EN
CALSCALE:GREGORIAN
METHOD:PUBLISH
X-WR-CALNAME:Gledališče Toneta Čufarja
X-ORIGINAL-URL:https://www.gledalisce-tc.si
X-WR-CALDESC:Events for Gledališče Toneta Čufarja
REFRESH-INTERVAL;VALUE=DURATION:PT1H
X-Robots-Tag:noindex
X-PUBLISHED-TTL:PT1H
BEGIN:VTIMEZONE
TZID:UTC
BEGIN:STANDARD
TZOFFSETFROM:+0000
TZOFFSETTO:+0000
TZNAME:UTC
DTSTART:20250101T000000
END:STANDARD
END:VTIMEZONE
BEGIN:VEVENT
DTSTART;TZID=UTC:20251219T193000
DTEND;TZID=UTC:20251219T210000
DTSTAMP:20260419T203247
CREATED:20241009T120027Z
LAST-MODIFIED:20251128T131149Z
UID:486-1766172600-1766178000@www.gledalisce-tc.si
SUMMARY:ORKESTER SLOVENSKE VOJSKE z gosti
DESCRIPTION:Dirigent: mag. Mitja Dragolič \nSolisti: Vox Arsana \nBožično-novoletni koncert Orkestra Slovenske vojske pod vodstvom vojaškega uslužbenca XII. r. mag. Mitje Dragoliča bo s skrbno oblikovanim programom očaral tako poznavalce kot širše občinstvo ter v najelegantnejši podobi razkril umetniško odličnost orkestra in njegovih gostov. Popeljal vas bo skozi bogato\, slogovno razkošno glasbeno krajino – od veličastnih klasik ruske in francoske glasbene literature do zimzelenih melodij domačih ustvarjalcev in nepozabnih filmskih biserov\, ki spremljajo praznični čas. \nVečer bo združil tradicijo in sodobnost\, domače in svetovno: bleščečo svečanost Šostakoviča\, dramatično intenzivnost Bizeta\, pravljično baletno poetičnost Čajkovskega\, iskrivost Straussa\, toplino Avsenikovih melodij ter hudomušne filmske domislice Williamsa. Koncert bo obogaten tudi z večnimi slovenskimi popevkami in priljubljenimi prazničnimi napevi\, pri katerih se bodo orkestru in dirigentu pridružili posebni gostje – vrhunska vokalna zasedba Vox Arsana. \nNaj vas glasba navdihne\, objame s svojo toplino in napolni s svetlobo. \nO orkestru: \nOrkester Slovenske vojske je bil ustanovljen leta 1996. Slovenska država z njim nadaljuje dolgoletno tradicijo vojaških orkestrov na Slovenskem\, ki sega že v čas Marije Terezije\, ko je v Ljubljani začela delovati prva stalna vojaška godba. \nDanes šteje Orkester Slovenske vojske preko 50 akademsko izobraženih glasbenic in glasbenikov. Sodeluje na vseh slovesnih dogodkih Slovenske vojske\, od obletnic njenih enot in zapriseg vojakov do državnih proslav in meddržavnih srečanj. Ni dogodka ali praznovanja\, na katerem ne bi nastopil orkester v eni od svojih zasedb – bodisi kot véliki koncertni orkester bodisi kot protokolarni orkester\, big band\, pihalni ali trobilni kvintet\, v revijalni ali drugi zasedbi. Poleg tega orkester sodeluje na številnih humanitarnih koncertih in prireditvah lokalnih skupnosti. Z zelo raznolikim opusom in kakovostjo svoje poustvarjalne umetnosti vedno znova ustvari občutek dovršenosti dogodkov in visoke omike\, predvsem pa podobo ponosnih pripadnikov in pripadnic Slovenske vojske. \nV osemindvajsetih letih delovanja je Orkester Slovenske vojske prehodil uspešno pot razvoja in se izoblikoval v profesionalen\, živahen\, prizadeven in kakovosten ansambel. Z orkestrom\, ki ima preko 200 nastopov na leto\, radi sodelujejo tudi mnogi znameniti dirigenti ter številni vrhunski solisti iz domovine in tujine. Preigral je impresiven repertoar in ustvaril številne posnetke. Poseben dokaz njegove visoke kakovosti so redna vabila na koncerte in festivale vojaških orkestrov v različne konce Evrope in ZDA\, kjer nastopa kot spoštovanja vreden ambasador slovenske kulture. \nOrkester je bil odlikovan z bronasto (1997) in zlato (2006) medaljo Slovenske vojske. Predsednik Republike Slovenije Borut Pahor je Orkester Slovenske vojske leta 2016\, ob njegovi dvajsetletnici\, odlikoval z redom za zasluge.
URL:https://www.gledalisce-tc.si/event/orkester-slovenske-vojske/
LOCATION:GTČ dvorana\, Trg Toneta Čufarja 4\, Jesenice\, 4270\, Slovenia
CATEGORIES:glasbeni abonma,Vsi dogodki
ATTACH;FMTTYPE=image/jpeg:https://www.gledalisce-tc.si/wp-content/uploads/2024/10/orkester-SV.jpg
END:VEVENT
END:VCALENDAR