BEGIN:VCALENDAR
VERSION:2.0
PRODID:-//Gledališče Toneta Čufarja - ECPv6.7.0//NONSGML v1.0//EN
CALSCALE:GREGORIAN
METHOD:PUBLISH
X-WR-CALNAME:Gledališče Toneta Čufarja
X-ORIGINAL-URL:https://www.gledalisce-tc.si
X-WR-CALDESC:Events for Gledališče Toneta Čufarja
REFRESH-INTERVAL;VALUE=DURATION:PT1H
X-Robots-Tag:noindex
X-PUBLISHED-TTL:PT1H
BEGIN:VTIMEZONE
TZID:UTC
BEGIN:STANDARD
TZOFFSETFROM:+0000
TZOFFSETTO:+0000
TZNAME:UTC
DTSTART:20250101T000000
END:STANDARD
END:VTIMEZONE
BEGIN:VEVENT
DTSTART;TZID=UTC:20250219T193000
DTEND;TZID=UTC:20250219T210000
DTSTAMP:20260421T163354
CREATED:20240926T112108Z
LAST-MODIFIED:20250116T102546Z
UID:397-1739993400-1739998800@www.gledalisce-tc.si
SUMMARY:PARADIŽ
DESCRIPTION:grenka komedija\, krstna uprizoritev \nRežiser: Matteo Spiazzi \nIgrajo:\nŽan Brelih Hatunić\, David Čeh\, Maša Grošelj\, Lucija Harum\, Aljoša Koltak\, Rastko Krošl\, Urban Kuntarič\, Manca Ogorevc\, Lučka Počkaj\, Tanja Potočnik\nBranko Završan. \nParadiž je pretežno neverbalna predstava\, temelji na igri z masko v maniri Spiazzijeve specializacije – commedie dell’arte. Za slog commedie dell’arte z uporabo polnih mask je značilna komičnost\, tokrat obtesana s temo grenkega priokusa. \nPredstava traja 1 uro in 10 minut in nima odmora. \nVeč o predstavi: https://slg-ce.si/domov/ostalo/seznam-iger/paradiz.html
URL:https://www.gledalisce-tc.si/event/paradiz/
LOCATION:GTČ dvorana\, Trg Toneta Čufarja 4\, Jesenice\, 4270\, Slovenia
CATEGORIES:gledališki abonma,Vsi dogodki
ATTACH;FMTTYPE=image/png:https://www.gledalisce-tc.si/wp-content/uploads/2024/09/paradiz.png
END:VEVENT
END:VCALENDAR