BEGIN:VCALENDAR
VERSION:2.0
PRODID:-//Gledališče Toneta Čufarja - ECPv6.7.0//NONSGML v1.0//EN
CALSCALE:GREGORIAN
METHOD:PUBLISH
X-WR-CALNAME:Gledališče Toneta Čufarja
X-ORIGINAL-URL:https://www.gledalisce-tc.si
X-WR-CALDESC:Events for Gledališče Toneta Čufarja
REFRESH-INTERVAL;VALUE=DURATION:PT1H
X-Robots-Tag:noindex
X-PUBLISHED-TTL:PT1H
BEGIN:VTIMEZONE
TZID:UTC
BEGIN:STANDARD
TZOFFSETFROM:+0000
TZOFFSETTO:+0000
TZNAME:UTC
DTSTART:20250101T000000
END:STANDARD
END:VTIMEZONE
BEGIN:VEVENT
DTSTART;TZID=UTC:20251005T100000
DTEND;TZID=UTC:20251005T110000
DTSTAMP:20260419T191023
CREATED:20250924T113604Z
LAST-MODIFIED:20250924T113604Z
UID:1803-1759658400-1759662000@www.gledalisce-tc.si
SUMMARY:POTUJOČI CIRKUS NERODNE AVGUŠTINE (matineja)
DESCRIPTION:Ideja naše lutkovne predstave izhaja iz otroške slikanice Nerodna Avguština\, nemška avtorja Otfrieda Preuslerja. Klovnesa Avguština\, ki skrbi za otroke in dom si želi nastopat v cirkusu\, kjer sicer nastopa njen mož Avguštin. Ko Avguštin zboli\, na oder stopi naša Avguština. Nerodna Avguština se v cirkusu odlično odreže in postane poguma klovnesa Avguština\, ki s cirkusom strumno krene na pot in med občinstvo. V Avguštininem potujočem cirkusu nastopajo akrobati iz celega sveta\, miška Karolina\, čarodej Antonino\, pevka Elza\, vrvohodka Elena in tudi lev. Skratka pred vami je čisto prava cirkuška predstava! \nNaša potujoča predstava potujočega cirkusa je tista prava za vse ljubitelje cirkusa\, lutk in poguma. V njej je veliko glasbe\, akrobacij in presenečenj. Drage dame in gospodje dobrodošli v cirkusu klovnese Avguštine! \nREŽIJA IN  LIKOVNA PODOBA: Barbara Bulatović\nIGRA IN ANIMACIJA Brigita Leban\nGLASBA: Nino de Gleria\nKOLESARSKI MOJSTER: Jakob Kušar \nVeč o predstavi najdete TUKAJ.
URL:https://www.gledalisce-tc.si/event/potujoci-cirkus-nerodne-avgustine-matineja/
LOCATION:GTČ dvorana\, Trg Toneta Čufarja 4\, Jesenice\, 4270\, Slovenia
CATEGORIES:Vsi dogodki
ATTACH;FMTTYPE=image/jpeg:https://www.gledalisce-tc.si/wp-content/uploads/2025/09/matineja01.jpg
END:VEVENT
END:VCALENDAR