BEGIN:VCALENDAR
VERSION:2.0
PRODID:-//Gledališče Toneta Čufarja - ECPv6.7.0//NONSGML v1.0//EN
CALSCALE:GREGORIAN
METHOD:PUBLISH
X-WR-CALNAME:Gledališče Toneta Čufarja
X-ORIGINAL-URL:https://www.gledalisce-tc.si
X-WR-CALDESC:Events for Gledališče Toneta Čufarja
REFRESH-INTERVAL;VALUE=DURATION:PT1H
X-Robots-Tag:noindex
X-PUBLISHED-TTL:PT1H
BEGIN:VTIMEZONE
TZID:UTC
BEGIN:STANDARD
TZOFFSETFROM:+0000
TZOFFSETTO:+0000
TZNAME:UTC
DTSTART:20250101T000000
END:STANDARD
END:VTIMEZONE
BEGIN:VEVENT
DTSTART;TZID=UTC:20250302T100000
DTEND;TZID=UTC:20250302T110000
DTSTAMP:20260420T115500
CREATED:20250217T122215Z
LAST-MODIFIED:20250217T122215Z
UID:1414-1740909600-1740913200@www.gledalisce-tc.si
SUMMARY:PUSTNO RAJANJE (matineja)
DESCRIPTION:Vabljeni na norčavo pustno matinejo na kateri vas bo zabaval Gašper s svojimi vragolijami. \nPo matineji vsaka maska prejme pustni krof. \nPustna matineja bo v kinu. \nVabljeni!
URL:https://www.gledalisce-tc.si/event/pustno-rajanje-matineja/
LOCATION:Kino Železar
CATEGORIES:Vsi dogodki
ATTACH;FMTTYPE=image/jpeg:https://www.gledalisce-tc.si/wp-content/uploads/2025/02/pust.jpg
END:VEVENT
END:VCALENDAR