BEGIN:VCALENDAR
VERSION:2.0
PRODID:-//Gledališče Toneta Čufarja - ECPv6.7.0//NONSGML v1.0//EN
CALSCALE:GREGORIAN
METHOD:PUBLISH
X-WR-CALNAME:Gledališče Toneta Čufarja
X-ORIGINAL-URL:https://www.gledalisce-tc.si
X-WR-CALDESC:Events for Gledališče Toneta Čufarja
REFRESH-INTERVAL;VALUE=DURATION:PT1H
X-Robots-Tag:noindex
X-PUBLISHED-TTL:PT1H
BEGIN:VTIMEZONE
TZID:UTC
BEGIN:STANDARD
TZOFFSETFROM:+0000
TZOFFSETTO:+0000
TZNAME:UTC
DTSTART:20250101T000000
END:STANDARD
END:VTIMEZONE
BEGIN:VEVENT
DTSTART;TZID=UTC:20250220T200000
DTEND;TZID=UTC:20250220T213000
DTSTAMP:20260421T232921
CREATED:20250106T131541Z
LAST-MODIFIED:20250106T131541Z
UID:1100-1740081600-1740087000@www.gledalisce-tc.si
SUMMARY:SEX in LAKOTA (monokomedija)
DESCRIPTION:PREDSTAVA SEX & LAKOTA\nDoktor za tiste stvari.\nNova show predstava Tarika Filipovića\, ki obnoruje publiko! \nDoktor seksologije\, profesor in playboy\, ki ga uteleša igralec Tarik Filipović\, vas bo za približno 70 minut popeljal na razburljiv safari skozi deževni gozd pojmov s področja človeške spolnosti. \nČeprav živimo v hiperseksualiziranem delu sveta\, je ta tema za mnoge še vedno tabu. “Seks in lakota” je predstava\, ki služi prav temu\, da detaburizira ta področja človeške narave. \nSeveda\, tako kot že v stripovskih predhodnicah in uspešnicah\, pri katerih je Tarik Filipović sodeloval kot avtor in igralec (Predsedniki&ca\, Spektakluk\, Magic Act Show\, Ćiro …)\, je primarna naloga te predstave sprostitev\, poučevanje\, zabava in razveselljevanje. Smeh in smeh je najbolj zanesljivo in učinkovito zdravilo v teh impotentnih časih. Tarik je preizkušen zdravnik za naše tegobe in čemernosti. \nSpoznali oziroma prepoznali boste vrste spolnih odnosov\, spolne pripomočke\, pa tudi spolne ovire\, ki jih bomo skušali odpraviti. Vsak deževni gozd skriva poleg znanih spolnih poti tudi svoje manj znane poti in obvoze. Zato bomo razložili tudi nekatere sodobnejše fenomene\, kot so cyber sex\, chem sex ali na primer roll play. Ne bomo se izognili niti bolj občutljivim temam\, kot so impotenca\, spolno prenosljive bolezni\, zasvojenost s seksom itd. \nPredstava je multimedijska in interaktivna ter v obliki kolažne predstave ponuja linijo pesmi\, linijo plesa in več linij smešne zabave\, ki jo navdihuje ta večno intrigantna tema. \nSamo besedilo temelji na več dramskih\, socioloških in antropoloških predlogah\, sestavila pa sta ga Tarik Filipović in dramaturginja Nina Skorup\, z režijskim pridihom Marije Kovač. Predstavo producira Mario Gigović s produkcijsko hišo FIJI. \nPredstava je v materinščini izvajalca.
URL:https://www.gledalisce-tc.si/event/sex-in-lakota-monokomedija/
LOCATION:GTČ dvorana\, Trg Toneta Čufarja 4\, Jesenice\, 4270\, Slovenia
CATEGORIES:Vsi dogodki
ATTACH;FMTTYPE=image/jpeg:https://www.gledalisce-tc.si/wp-content/uploads/2025/01/sex-in-lakota.jpg
ORGANIZER;CN="%C4%8Cajna soba in Kavarna Knji%C5%BEnica":MAILTO:info@cajnasoba.si
END:VEVENT
END:VCALENDAR