BEGIN:VCALENDAR
VERSION:2.0
PRODID:-//Gledališče Toneta Čufarja - ECPv6.7.0//NONSGML v1.0//EN
CALSCALE:GREGORIAN
METHOD:PUBLISH
X-WR-CALNAME:Gledališče Toneta Čufarja
X-ORIGINAL-URL:https://www.gledalisce-tc.si
X-WR-CALDESC:Events for Gledališče Toneta Čufarja
REFRESH-INTERVAL;VALUE=DURATION:PT1H
X-Robots-Tag:noindex
X-PUBLISHED-TTL:PT1H
BEGIN:VTIMEZONE
TZID:UTC
BEGIN:STANDARD
TZOFFSETFROM:+0000
TZOFFSETTO:+0000
TZNAME:UTC
DTSTART:20250101T000000
END:STANDARD
END:VTIMEZONE
BEGIN:VEVENT
DTSTART;TZID=UTC:20250105T100000
DTEND;TZID=UTC:20250105T110000
DTSTAMP:20260421T133222
CREATED:20241230T093329Z
LAST-MODIFIED:20241230T093329Z
UID:1083-1736071200-1736074800@www.gledalisce-tc.si
SUMMARY:ZGODBA O DVEH KOZAH (matineja)
DESCRIPTION:Zgodba o dveh kozah – igrano lutkovna predstava po motivih slikanice Tom Barber (lutke na palici) \nAvtor: Tom Barber \nNastopata: Matjaž Koman in Irena Leskovšek \nRežija: Matjaž Koman \nBesedilo: Irena Leskovšek \nScenografija: Leon Leskovšek \nGlasba: Peter Bulovec \nIzdelava lutk: Nataša Rožič \nDrug ob drugem živita kmet in kmetica\, ki imata vsak svojo kozo. Kmet goji zelje\, kmetica pa goji repo. Toda to ni navadna kmetija\, saj imata kozici\, Zeljka in Repka\, posebno vez. Vsak dan se skozi ograjo izmenjujeta zelenjavo\, ki jo njuni ljubeči lastniki z ljubeznijo gojita. \n​Ko kmet in kmetica odkrijeta\, da se njune kosmate prijateljici vsak dan izmikata ograji\, ju preplavi val jeze. Naredita vse\, da bi ju ustavila… \n​Otroci bodo ob gledanju predstave spoznali\, da prijateljstvo ne pozna ovir in da je lepo stvari deliti. Skozi zabavno in poučno zgodbo se bodo naučili o pomembnosti deljenja\, razumevanja in skupnega življenja. \nPridružite se nam in doživite to srčno predstavo\, kjer se ljubezen do živali prepleta z lepimi življenjskimi nauki! \nVeč na: Gledališče Makarenko – lutkovne predstave
URL:https://www.gledalisce-tc.si/event/zgodba-o-dveh-kozah-matineja/
LOCATION:GTČ dvorana\, Trg Toneta Čufarja 4\, Jesenice\, 4270\, Slovenia
ATTACH;FMTTYPE=image/jpeg:https://www.gledalisce-tc.si/wp-content/uploads/2024/12/zgodba-o-dveh-kozah.jpg
END:VEVENT
END:VCALENDAR